BEGIN:VCALENDAR
VERSION:2.0
PRODID:-//hacksw/handcal//NONSGML v1.0//EN
BEGIN:VEVENT
UID:node-f4867d6a8ee1883b7d81d114910410bb@www.london-stadium.com
DTSTAMP:20260422T164654Z
DTSTART:20220624T163000Z
DTEND:20220624T213000Z
SUMMARY:The Hella Mega Tour: Green Day, Fall Out Boy & Weezer
DESCRIPTION:  - https://www.london-stadium.com/
LOCATION:
END:VEVENT
END:VCALENDAR