BEGIN:VCALENDAR
VERSION:2.0
PRODID:-//hacksw/handcal//NONSGML v1.0//EN
BEGIN:VEVENT
UID:node-18882bc91b2408f999d9e17b2e0f5066@www.london-stadium.com
DTSTAMP:20260419T160440Z
DTSTART:20260718T110000Z
DTEND:20260718T160000Z
SUMMARY:Novuna London Athletics Meet 2026
DESCRIPTION:  - https://www.london-stadium.com/
LOCATION:
END:VEVENT
END:VCALENDAR