BEGIN:VCALENDAR
VERSION:2.0
PRODID:-//hacksw/handcal//NONSGML v1.0//EN
BEGIN:VEVENT
UID:node-4025a0219ccbe65e6b4b7be44e8f9bc1@www.london-stadium.com
DTSTAMP:20260423T155927Z
DTSTART:20230707T163000Z
DTEND:20230707T213000Z
SUMMARY:THE WEEKND
DESCRIPTION:  - https://www.london-stadium.com/
LOCATION:
END:VEVENT
END:VCALENDAR